BEGIN:VCALENDAR
VERSION:2.0
PRODID:-//Mead Witter School of Music - ECPv6.15.18//NONSGML v1.0//EN
CALSCALE:GREGORIAN
METHOD:PUBLISH
X-ORIGINAL-URL:https://music.wisc.edu
X-WR-CALDESC:Events for Mead Witter School of Music
REFRESH-INTERVAL;VALUE=DURATION:PT1H
X-Robots-Tag:noindex
X-PUBLISHED-TTL:PT1H
BEGIN:VTIMEZONE
TZID:America/Chicago
BEGIN:DAYLIGHT
TZOFFSETFROM:-0600
TZOFFSETTO:-0500
TZNAME:CDT
DTSTART:20250309T080000
END:DAYLIGHT
BEGIN:STANDARD
TZOFFSETFROM:-0500
TZOFFSETTO:-0600
TZNAME:CST
DTSTART:20251102T070000
END:STANDARD
BEGIN:DAYLIGHT
TZOFFSETFROM:-0600
TZOFFSETTO:-0500
TZNAME:CDT
DTSTART:20260308T080000
END:DAYLIGHT
BEGIN:STANDARD
TZOFFSETFROM:-0500
TZOFFSETTO:-0600
TZNAME:CST
DTSTART:20261101T070000
END:STANDARD
BEGIN:DAYLIGHT
TZOFFSETFROM:-0600
TZOFFSETTO:-0500
TZNAME:CDT
DTSTART:20270314T080000
END:DAYLIGHT
BEGIN:STANDARD
TZOFFSETFROM:-0500
TZOFFSETTO:-0600
TZNAME:CST
DTSTART:20271107T070000
END:STANDARD
END:VTIMEZONE
BEGIN:VEVENT
DTSTART;TZID=America/Chicago:20260421T193000
DTEND;TZID=America/Chicago:20260421T193000
DTSTAMP:20260421T022354
CREATED:20251209T221002Z
LAST-MODIFIED:20260416T182150Z
UID:24425-1776799800-1776799800@music.wisc.edu
SUMMARY:Jazz Composers' Group - Student Ensemble Series
DESCRIPTION:Free | No ticket required\nAlso streaming live \nAruṇ Lūthrā\, director \n…… \nProgram
URL:https://music.wisc.edu/event/jazz-composers-group/
LOCATION:Collins Recital Hall\, Hamel Music Center\, 740 University Avenue\, Madison\, WI\, 53706\, United States
CATEGORIES:Student Ensemble Series
ATTACH;FMTTYPE=image/png:https://music.wisc.edu/wp-content/uploads/2025/07/jazz_composers_group.png
END:VEVENT
BEGIN:VEVENT
DTSTART;TZID=America/Chicago:20260421T193000
DTEND;TZID=America/Chicago:20260421T193000
DTSTAMP:20260421T022354
CREATED:20260417T230041Z
LAST-MODIFIED:20260417T230041Z
UID:25554-1776799800-1776799800@music.wisc.edu
SUMMARY:Riley Smith - DMA Lecture Recital
DESCRIPTION:Free | No ticket required \nMorphy Recital Hall \nRiley Smith DMA Classical Guitar Lecture Recital \n…… \nProgram \nOpening      Philip Glass \nOración        Alan Mearns \nMetanoia      Adam Rook \nBloom Suite     Elliot Cole \nKoyunbaba       Carlo Domeniconi \n…… \nRiley Smith is a classical guitarist and educator from Michigan. He developed an early passion for the instrument under the guidance of Dr. Brad DeRoche. Riley holds two degrees in classical guitar performance: a Bachelor of Fine Arts (2020) from the University of Wisconsin–Milwaukee\, where he studied with René Izquierdo\, and a Master of Music (2022) from Columbus State University under Dr. Andrew Zohn. He is currently pursuing a Doctor of Musical Arts in guitar performance at the University of Wisconsin–Madison\, studying with Javier Calderon. \nRiley maintains an active teaching career through both private instruction and work at professional institutions.
URL:https://music.wisc.edu/event/riley-smith-2/
LOCATION:Humanities Building\, 455 N. Park Street\, Madison\, WI\, 53706\, United States
CATEGORIES:Student Recital
ATTACH;FMTTYPE=image/jpeg:https://music.wisc.edu/wp-content/uploads/2023/11/riley_smith.jpg
END:VEVENT
BEGIN:VEVENT
DTSTART;TZID=America/Chicago:20260422T193000
DTEND;TZID=America/Chicago:20260422T193000
DTSTAMP:20260421T022354
CREATED:20251209T221317Z
LAST-MODIFIED:20260416T183324Z
UID:24427-1776886200-1776886200@music.wisc.edu
SUMMARY:Jazz Standards Ensemble & Creative Music Collective - Student Ensemble Series
DESCRIPTION:Free | No ticket required\nAlso streaming live \nAruṇ Lūthrā and Anders Svanoe\, directors \n…… \nProgram
URL:https://music.wisc.edu/event/jazz-standards-ensemble-creative-music-collective/
LOCATION:Collins Recital Hall\, Hamel Music Center\, 740 University Avenue\, Madison\, WI\, 53706\, United States
CATEGORIES:Student Ensemble Series
ATTACH;FMTTYPE=image/png:https://music.wisc.edu/wp-content/uploads/2025/07/jazz_standards_ensemble.png
END:VEVENT
BEGIN:VEVENT
DTSTART;TZID=America/Chicago:20260422T193000
DTEND;TZID=America/Chicago:20260422T193000
DTSTAMP:20260421T022354
CREATED:20260410T151132Z
LAST-MODIFIED:20260410T151132Z
UID:25481-1776886200-1776886200@music.wisc.edu
SUMMARY:$2 Broom
DESCRIPTION:Free | No ticket required \nMills Concert Hall \nThe Electro-Acoustic Improv Ensemble\, known as $2 Broom\, plays an all-improvised concert.
URL:https://music.wisc.edu/event/2-broom/
LOCATION:Humanities Building\, 455 N. Park Street\, Madison\, WI\, 53706\, United States
CATEGORIES:Student Ensemble Series
ATTACH;FMTTYPE=image/jpeg:https://music.wisc.edu/wp-content/uploads/2021/07/Mosse_Humanities_Bldg21_8495.jpg
END:VEVENT
BEGIN:VEVENT
DTSTART;TZID=America/Chicago:20260423T193000
DTEND;TZID=America/Chicago:20260423T193000
DTSTAMP:20260421T022354
CREATED:20251209T221536Z
LAST-MODIFIED:20260416T184401Z
UID:24429-1776972600-1776972600@music.wisc.edu
SUMMARY:Wind Ensemble & Concert Band - Student Ensemble Series
DESCRIPTION:Purchase tickets\n$20 general admission\nStudents free (ticket required)\nAlso streaming live \nCorey Pompey\, Scott Teeple\, Herb Payung\, conductors\nCaptain Kenneth Collins\, guest conductor\nFeaturing Jesse Wolf\, winner of the 2025 Wind Ensemble Concerto Competition\nLouis Vajda\, graduate student conductor\nAlicia Lee\, clarinet soloist \n…… \nProgram
URL:https://music.wisc.edu/event/wind-ensemble-concert-band/
LOCATION:Mead Witter Foundation Concert Hall\, Hamel Music Center\, 740 University Avenue\, Madison\, WI\, 53706\, United States
CATEGORIES:Student Ensemble Series
ATTACH;FMTTYPE=image/png:https://music.wisc.edu/wp-content/uploads/2025/10/wind_ensemble_2025.png
END:VEVENT
BEGIN:VEVENT
DTSTART;TZID=America/Chicago:20260423T193000
DTEND;TZID=America/Chicago:20260423T193000
DTSTAMP:20260421T022354
CREATED:20251209T221739Z
LAST-MODIFIED:20251209T221739Z
UID:24432-1776972600-1776972600@music.wisc.edu
SUMMARY:Collegium Musicum - Student Ensemble Series
DESCRIPTION:Free | No ticket required \nTaya König-Tarasevich\, Jacob Reed\, and llana Schroeder\, directors
URL:https://music.wisc.edu/event/collegium-musicum-2/
LOCATION:Morphy Recital Hall\, 455 N. Park St.\, Madison\, WI\, 53706\, United States
CATEGORIES:Student Ensemble Series
ATTACH;FMTTYPE=image/jpeg:https://music.wisc.edu/wp-content/uploads/2021/07/Mosse_Humanities_Bldg21_8495.jpg
END:VEVENT
BEGIN:VEVENT
DTSTART;TZID=America/Chicago:20260423T193000
DTEND;TZID=America/Chicago:20260423T193000
DTSTAMP:20260421T022354
CREATED:20260410T171137Z
LAST-MODIFIED:20260410T171137Z
UID:25507-1776972600-1776972600@music.wisc.edu
SUMMARY:Piano department recital
DESCRIPTION:Free | No ticket required \nFeaturing performances by piano department students
URL:https://music.wisc.edu/event/piano-department-recital-2/
LOCATION:Collins Recital Hall\, Hamel Music Center\, 740 University Avenue\, Madison\, WI\, 53706\, United States
CATEGORIES:Student Recital
ATTACH;FMTTYPE=image/jpeg:https://music.wisc.edu/wp-content/uploads/2021/07/hamel_music_center_collins_hall.jpg
END:VEVENT
BEGIN:VEVENT
DTSTART;TZID=America/Chicago:20260424T163000
DTEND;TZID=America/Chicago:20260424T163000
DTSTAMP:20260421T022354
CREATED:20260410T171733Z
LAST-MODIFIED:20260410T171733Z
UID:25509-1777048200-1777048200@music.wisc.edu
SUMMARY:Ryan Valdivia - Master's Recital
DESCRIPTION:Free | No ticket required \nRyan Valdivia Master’s Trumpet Recital \n…… \nProgram  \nConcerto for Trumpet (1955/1978)      Aleksandra Pakhmutova (b. 1929) \nSuite for Flugelhorn (2009)      Betsy Schramm (b. 1964)\nI. Prisms\nII. Reflections (Like motes of light)\nIII. Mirrors\nIV. Dance \nNothing Less (2021)       Caleb Hudson (b. 1988)\nI. Still Small Voice\nII. Prophets of Baal\nIII. That They Will Know\nIV. Covenant \nConcerto (2026)       Kirsten Townander (b. 2001)\nI\nII\nIII\nWorld premiere \nAmazing Grace (1986)      Traditional/arr. Luther Henderson (1919-2003)
URL:https://music.wisc.edu/event/ryan-valdivia/
LOCATION:Collins Recital Hall\, Hamel Music Center\, 740 University Avenue\, Madison\, WI\, 53706\, United States
CATEGORIES:Student Recital
ATTACH;FMTTYPE=image/png:https://music.wisc.edu/wp-content/uploads/2026/04/ryan_valdivia.png
END:VEVENT
BEGIN:VEVENT
DTSTART;TZID=America/Chicago:20260424T193000
DTEND;TZID=America/Chicago:20260424T193000
DTSTAMP:20260421T022354
CREATED:20260216T224237Z
LAST-MODIFIED:20260417T224813Z
UID:24920-1777059000-1777059000@music.wisc.edu
SUMMARY:Marvin Rabin String Quartet - Student Ensemble Series
DESCRIPTION:Free | No ticket required\nAlso streaming live \nBen Campbell\, violin\nMcKenna Taylor\, violin\nHeejo Yang\, viola\nJun Lee\, cello \n…… \nProgram  \n\n…… \nThe Marvin Rabin String Quartet is the graduate string quartet at the Mead Witter School of Music. Its members are working towards master’s and doctoral degrees and serve as teaching assistants\, leading orchestral sectionals\, teaching string fundamentals to music education students\, and performing as representatives of UW–Madison. \nThe group is funded by generous donors and named in honor of Dr. Marvin Rabin. Dr. Rabin was an internationally acclaimed music educator and Professor Emeritus at UW–Madison who inspired thousands of string educators nationwide. As the father of the youth orchestra movement in the US\, his work continues to positively impact countless young musicians to this day. \n  \n 
URL:https://music.wisc.edu/event/rabin-string-quartet-2/
LOCATION:Mead Witter Foundation Concert Hall\, Hamel Music Center\, 740 University Avenue\, Madison\, WI\, 53706\, United States
CATEGORIES:Student Ensemble Series
ATTACH;FMTTYPE=image/png:https://music.wisc.edu/wp-content/uploads/2026/02/rabin_quartet_2026.png
END:VEVENT
BEGIN:VEVENT
DTSTART;TZID=America/Chicago:20260424T193000
DTEND;TZID=America/Chicago:20260424T193000
DTSTAMP:20260421T022354
CREATED:20260410T151455Z
LAST-MODIFIED:20260410T151455Z
UID:25485-1777059000-1777059000@music.wisc.edu
SUMMARY:SoundWaves
DESCRIPTION:Free | No ticket required \nThe popular lecture-and-music series final event of the season\, exploring the theme Astronomical Scale\, with fascinating lectures and special musical guest Twisted Metal (the UW horn Choir).
URL:https://music.wisc.edu/event/soundwaves-3/
LOCATION:Collins Recital Hall\, Hamel Music Center\, 740 University Avenue\, Madison\, WI\, 53706\, United States
ATTACH;FMTTYPE=image/png:https://music.wisc.edu/wp-content/uploads/2024/10/soundwaves.png
END:VEVENT
BEGIN:VEVENT
DTSTART;TZID=America/Chicago:20260424T193000
DTEND;TZID=America/Chicago:20260424T193000
DTSTAMP:20260421T022354
CREATED:20260410T171937Z
LAST-MODIFIED:20260410T171937Z
UID:25512-1777059000-1777059000@music.wisc.edu
SUMMARY:Harp studio recital
DESCRIPTION:Free | No ticket required \nMorphy Recital Hall \nEllison Xu\nFiona Hunt\nScarlett Felando\nCaitlin Leung\nSadie Smith\nSophia Speece \n 
URL:https://music.wisc.edu/event/harp-studio-recital/
LOCATION:Humanities Building\, 455 N. Park Street\, Madison\, WI\, 53706\, United States
CATEGORIES:Student Recital
ATTACH;FMTTYPE=image/jpeg:https://music.wisc.edu/wp-content/uploads/2021/07/Mosse_Humanities_Bldg21_8495.jpg
END:VEVENT
BEGIN:VEVENT
DTSTART;TZID=America/Chicago:20260425T110000
DTEND;TZID=America/Chicago:20260425T110000
DTSTAMP:20260421T022354
CREATED:20260216T224916Z
LAST-MODIFIED:20260216T224916Z
UID:24923-1777114800-1777114800@music.wisc.edu
SUMMARY:Margaret Cremers - Master's Recital
DESCRIPTION:Free | No ticket required \nMargaret Cremers Master’s Trombone Recital \nMaragret Cremers\, trombone\nVincent Fuh\, piano\n…… \nProgram  \nBlue: A Broken Glass Bottle      Ryan Middagh \nBirds of Paradise     Jay Chaplin \nIntermission \nVariations in F#       Leon Stekke \nThree Latin Jazz Miniatures     Bob Washut\nI. Prelude and Mambo\nII. Bolero\nIII. Guaguanco \n…… \nOriginally from Iowa City\, Maggie Cremers holds a Bachelor’s degree in Music Education from the University of Northern Iowa and is currently completing her Master’s in Trombone Performance. During her time at the University of Wisconsin\, she has participated in a wide range of student ensembles\, showcasing her versatility and passion for performing in both the classical and jazz traditions. \nMaggie regularly performs with the Iowa Women’s Jazz Orchestra and is a founding member of The Wayward Ensemble\, where she continues to explore story telling through creative music making. \nOutside of her musical pursuits\, Maggie works as a baker at Bloom Bake Shop and enjoys spending time outdoors with her partner and their puppy.
URL:https://music.wisc.edu/event/margaret-cremers/
LOCATION:Collins Recital Hall\, Hamel Music Center\, 740 University Avenue\, Madison\, WI\, 53706\, United States
CATEGORIES:Student Recital
ATTACH;FMTTYPE=image/png:https://music.wisc.edu/wp-content/uploads/2026/02/margaret_cremers.png
END:VEVENT
BEGIN:VEVENT
DTSTART;TZID=America/Chicago:20260425T170000
DTEND;TZID=America/Chicago:20260425T170000
DTSTAMP:20260421T022354
CREATED:20251209T222350Z
LAST-MODIFIED:20260123T164319Z
UID:24434-1777136400-1777136400@music.wisc.edu
SUMMARY:All-University String Orchestra #1 - Student Ensemble Series
DESCRIPTION:Purchase tickets\n$10 general admission\nStudents free (ticket required) \nAll-University Strings #1 is at 5 pm\nAll-University Strings #2 is at 6:30 pm
URL:https://music.wisc.edu/event/all-university-string-orchestra-1-2/
LOCATION:Mead Witter Foundation Concert Hall\, Hamel Music Center\, 740 University Avenue\, Madison\, WI\, 53706\, United States
CATEGORIES:Student Ensemble Series
ATTACH;FMTTYPE=image/jpeg:https://music.wisc.edu/wp-content/uploads/2021/09/mead_witter_foundation_concert_hall-scaled.jpg
END:VEVENT
BEGIN:VEVENT
DTSTART;TZID=America/Chicago:20260425T183000
DTEND;TZID=America/Chicago:20260425T183000
DTSTAMP:20260421T022354
CREATED:20251209T222551Z
LAST-MODIFIED:20260123T164426Z
UID:24436-1777141800-1777141800@music.wisc.edu
SUMMARY:All-University String Orchestra #2 - Student Ensemble Series
DESCRIPTION:Purchase tickets\n$10 general admission\nStudents free (ticket required) \nAll-University Strings #1 is at 5 pm\nAll-University Strings #2 is at 6:30 pm
URL:https://music.wisc.edu/event/all-university-string-orchestra-2-2/
LOCATION:Mead Witter Foundation Concert Hall\, Hamel Music Center\, 740 University Avenue\, Madison\, WI\, 53706\, United States
CATEGORIES:Student Ensemble Series
ATTACH;FMTTYPE=image/jpeg:https://music.wisc.edu/wp-content/uploads/2021/09/mead_witter_foundation_concert_hall-scaled.jpg
END:VEVENT
BEGIN:VEVENT
DTSTART;TZID=America/Chicago:20260426T110000
DTEND;TZID=America/Chicago:20260426T110000
DTSTAMP:20260421T022354
CREATED:20260324T194844Z
LAST-MODIFIED:20260417T164606Z
UID:25283-1777201200-1777201200@music.wisc.edu
SUMMARY:Medical Sciences Orchestra
DESCRIPTION:Free | No ticket required\nAlso streaming live \nJoseph Mahin and Jared Sierra\, conductors \n 
URL:https://music.wisc.edu/event/medical-sciences-orchestra-2/
LOCATION:Mead Witter Foundation Concert Hall\, Hamel Music Center\, 740 University Avenue\, Madison\, WI\, 53706\, United States
ATTACH;FMTTYPE=image/jpeg:https://music.wisc.edu/wp-content/uploads/2021/10/20190927_HMC_038a-scaled.jpg
END:VEVENT
BEGIN:VEVENT
DTSTART;TZID=America/Chicago:20260426T170000
DTEND;TZID=America/Chicago:20260426T170000
DTSTAMP:20260421T022354
CREATED:20251209T222823Z
LAST-MODIFIED:20260417T224441Z
UID:24438-1777222800-1777222800@music.wisc.edu
SUMMARY:University Symphony Orchestra with Concert Choir & Chorale - Student Ensemble Series
DESCRIPTION:Purchase tickets\n$20 general admission\nStudents free (ticket required)\nAlso streaming live \nThis concert offers a striking contrast of styles and scale. Franz Joseph Haydn’s Nelson Mass combines dramatic intensity with radiant choral writing\, music of urgency and faith shaped by turbulent times. For this performance\, the Mead Witter School of Music Concert Choir and Chorale will join the University Symphony Orchestra\, all under the baton of Dr. Mariana Farah. The evening will conclude with Richard Strauss’s Also sprach Zarathustra\, a vast and awe-inspiring tone poem that journeys from primordial darkness to blazing transcendence\, crowned by one of the most iconic openings in all of orchestral music.
URL:https://music.wisc.edu/event/university-symphony-orchestra-choirs/
LOCATION:Mead Witter Foundation Concert Hall\, Hamel Music Center\, 740 University Avenue\, Madison\, WI\, 53706\, United States
CATEGORIES:Student Ensemble Series
ATTACH;FMTTYPE=image/png:https://music.wisc.edu/wp-content/uploads/2025/10/symphony_orchestra_2025.png
END:VEVENT
BEGIN:VEVENT
DTSTART;TZID=America/Chicago:20260427T193000
DTEND;TZID=America/Chicago:20260427T193000
DTSTAMP:20260421T022354
CREATED:20251209T223218Z
LAST-MODIFIED:20251209T223218Z
UID:24440-1777318200-1777318200@music.wisc.edu
SUMMARY:Resistance Music Ensemble & Afro-Cuban Jazz Ensemble - Student Ensemble Series
DESCRIPTION:Free | No ticket required
URL:https://music.wisc.edu/event/resistance-music-ensemble-afro-cuban-jazz-ensemble-2/
LOCATION:Collins Recital Hall\, Hamel Music Center\, 740 University Avenue\, Madison\, WI\, 53706\, United States
CATEGORIES:Student Ensemble Series
ATTACH;FMTTYPE=image/png:https://music.wisc.edu/wp-content/uploads/2024/07/afro_cuban_jazz_2024.png
END:VEVENT
BEGIN:VEVENT
DTSTART;TZID=America/Chicago:20260427T193000
DTEND;TZID=America/Chicago:20260427T193000
DTSTAMP:20260421T022354
CREATED:20251209T223503Z
LAST-MODIFIED:20260128T210629Z
UID:24442-1777318200-1777318200@music.wisc.edu
SUMMARY:All-University Philharmonia Orchestra - Student Ensemble Series
DESCRIPTION:Purchase tickets\n$10 general admission\nStudents free (ticket required)
URL:https://music.wisc.edu/event/all-university-philharmonia-orchestra/
LOCATION:Mead Witter Foundation Concert Hall\, Hamel Music Center\, 740 University Avenue\, Madison\, WI\, 53706\, United States
CATEGORIES:Student Ensemble Series
ATTACH;FMTTYPE=image/jpeg:https://music.wisc.edu/wp-content/uploads/2021/09/mead_witter_foundation_concert_hall-scaled.jpg
END:VEVENT
BEGIN:VEVENT
DTSTART;TZID=America/Chicago:20260429T193000
DTEND;TZID=America/Chicago:20260429T193000
DTSTAMP:20260421T022354
CREATED:20251209T223802Z
LAST-MODIFIED:20251209T223859Z
UID:24444-1777491000-1777491000@music.wisc.edu
SUMMARY:Chamber Percussion Ensemble - Student Ensemble Series
DESCRIPTION:Free | No ticket required \nThe Chamber Percussion Ensemble is a chamber group dedicated to the performance of significant and interesting works from diverse compositional trends of the 20th and 21st centuries. While an emphasis is placed on unconducted works\, the group also regularly performs conducted pieces for up to 15 percussionists. Professors Anthony Di Sanza\, Todd Hammes and Tom Ross coache the ensemble with assistance from graduate students in the percussion program. Guest artists regularly perform with the ensemble and guest composers are often featured.
URL:https://music.wisc.edu/event/chamber-percussion-ensemble-3/
LOCATION:Mead Witter Foundation Concert Hall\, Hamel Music Center\, 740 University Avenue\, Madison\, WI\, 53706\, United States
CATEGORIES:Student Ensemble Series
ATTACH;FMTTYPE=image/png:https://music.wisc.edu/wp-content/uploads/2022/04/chamber_percussion_ensemble.png
END:VEVENT
BEGIN:VEVENT
DTSTART;TZID=America/Chicago:20260430T193000
DTEND;TZID=America/Chicago:20260430T193000
DTSTAMP:20260421T022354
CREATED:20260410T151317Z
LAST-MODIFIED:20260410T151317Z
UID:25483-1777577400-1777577400@music.wisc.edu
SUMMARY:Twisted Metal
DESCRIPTION:Free | No ticket required \nThe UW Horn Choir\, which performs each spring under the name Twisted Metal\, plays rock and jazz songs arranged by ensemble members.
URL:https://music.wisc.edu/event/twisted-metal/
LOCATION:Music Hall\, 925 Bascom Mall\, Madison\, WI\, United States
CATEGORIES:Student Ensemble Series
ATTACH;FMTTYPE=image/jpeg:https://music.wisc.edu/wp-content/uploads/2020/09/Music_Hall_autumn13_3765.jpg
END:VEVENT
BEGIN:VEVENT
DTSTART;TZID=America/Chicago:20260430T193000
DTEND;TZID=America/Chicago:20260430T193000
DTSTAMP:20260421T022354
CREATED:20260420T193138Z
LAST-MODIFIED:20260420T193219Z
UID:25566-1777577400-1777577400@music.wisc.edu
SUMMARY:Isla Coronado - Master's Recital
DESCRIPTION:Free | No ticket required\nAlso streaming live \nIsla Coronado Master’s Flute Recital \nIsla Coronado\, flute\nTom Lacy\, oboe\nStephen Dubetz\, clarinet\nMinha Jeon\, piano\nJanet Lyu\, violin\nBen Campbell\, violin\nSage Eckard-Lee\, viola\nTim Sachtleben\, cello\nSarah Williams\, piano \n…… \nProgram \nEast Wind       Shulamit Ran (b.1949) \nAir for Flute and String Quartet      Aaron Jay Kernis (b. 1960) \nSonata for Flute\, Clarinet\, Oboe\, and Piano\, Op.47     Darius Milhaud (1892-1974)\nI. Tranquille\nII. Joyeux\nIII. Emporte\nIV. Douloureux \nFlute Sonata in D Major\, Op.94      Sergei Prokofiev   (1891-1953)\nI. Moderato\nII. Scherzo\nIII. Andante\nIV. Allegro con brio
URL:https://music.wisc.edu/event/isla-coronado/
LOCATION:Collins Recital Hall\, Hamel Music Center\, 740 University Avenue\, Madison\, WI\, 53706\, United States
CATEGORIES:Student Recital
ATTACH;FMTTYPE=image/png:https://music.wisc.edu/wp-content/uploads/2026/04/isla_coronado.png
END:VEVENT
END:VCALENDAR