BEGIN:VCALENDAR
VERSION:2.0
PRODID:-//Mead Witter School of Music - ECPv6.15.18//NONSGML v1.0//EN
CALSCALE:GREGORIAN
METHOD:PUBLISH
X-ORIGINAL-URL:https://music.wisc.edu
X-WR-CALDESC:Events for Mead Witter School of Music
REFRESH-INTERVAL;VALUE=DURATION:PT1H
X-Robots-Tag:noindex
X-PUBLISHED-TTL:PT1H
BEGIN:VTIMEZONE
TZID:America/Chicago
BEGIN:DAYLIGHT
TZOFFSETFROM:-0600
TZOFFSETTO:-0500
TZNAME:CDT
DTSTART:20250309T080000
END:DAYLIGHT
BEGIN:STANDARD
TZOFFSETFROM:-0500
TZOFFSETTO:-0600
TZNAME:CST
DTSTART:20251102T070000
END:STANDARD
BEGIN:DAYLIGHT
TZOFFSETFROM:-0600
TZOFFSETTO:-0500
TZNAME:CDT
DTSTART:20260308T080000
END:DAYLIGHT
BEGIN:STANDARD
TZOFFSETFROM:-0500
TZOFFSETTO:-0600
TZNAME:CST
DTSTART:20261101T070000
END:STANDARD
BEGIN:DAYLIGHT
TZOFFSETFROM:-0600
TZOFFSETTO:-0500
TZNAME:CDT
DTSTART:20270314T080000
END:DAYLIGHT
BEGIN:STANDARD
TZOFFSETFROM:-0500
TZOFFSETTO:-0600
TZNAME:CST
DTSTART:20271107T070000
END:STANDARD
END:VTIMEZONE
BEGIN:VEVENT
DTSTART;TZID=America/Chicago:20260418T193000
DTEND;TZID=America/Chicago:20260418T193000
DTSTAMP:20260421T214626
CREATED:20260327T211527Z
LAST-MODIFIED:20260327T211527Z
UID:25350-1776540600-1776540600@music.wisc.edu
SUMMARY:Lleyton Thompson - Senior Recital
DESCRIPTION:Free | No ticket required \nLleyton Thompson Senior Classical Guitar Recital
URL:https://music.wisc.edu/event/lleyton-thompson/
LOCATION:Humanities Building\, 455 N. Park Street\, Madison\, WI\, 53706\, United States
CATEGORIES:Student Recital
ATTACH;FMTTYPE=image/jpeg:https://music.wisc.edu/wp-content/uploads/2021/07/Mosse_Humanities_Bldg21_8495.jpg
END:VEVENT
BEGIN:VEVENT
DTSTART;TZID=America/Chicago:20260419T110000
DTEND;TZID=America/Chicago:20260419T110000
DTSTAMP:20260421T214626
CREATED:20260327T212515Z
LAST-MODIFIED:20260327T212515Z
UID:25352-1776596400-1776596400@music.wisc.edu
SUMMARY:Eireann Murphy - DMA Recital
DESCRIPTION:Free | No ticket required \nEireann Murphy DMA Tuba Recital \n 
URL:https://music.wisc.edu/event/eireann-murphy/
LOCATION:Collins Recital Hall\, Hamel Music Center\, 740 University Avenue\, Madison\, WI\, 53706\, United States
CATEGORIES:Student Recital
ATTACH;FMTTYPE=image/jpeg:https://music.wisc.edu/wp-content/uploads/2021/07/hamel_music_center_collins_hall.jpg
END:VEVENT
BEGIN:VEVENT
DTSTART;TZID=America/Chicago:20260419T140000
DTEND;TZID=America/Chicago:20260419T140000
DTSTAMP:20260421T214626
CREATED:20260327T213048Z
LAST-MODIFIED:20260327T213048Z
UID:25354-1776607200-1776607200@music.wisc.edu
SUMMARY:Anna Desfor - DMA Recital
DESCRIPTION:Free | No ticket required \nMorphy Recital Hall \nAnna Desfor DMA Percussion Recital \n…… \nProgram \nMourning Dove Sonnet       Christopher Deane (1957-2021) \nMarimba d’amore       Keiko Abe (b. 1937) \nVariations on Lost Love     David Maslanka (1943-2017) \nIn Venus      Davis Carr (b. 2020) \nAn Extraordinary Correspondence       Nathan Daughtrey (b. 1975) \nArabesque No. 1      Claude Debussy (1862-1918)/arr. José Riojas
URL:https://music.wisc.edu/event/anna-desfor-2/
LOCATION:Humanities Building\, 455 N. Park Street\, Madison\, WI\, 53706\, United States
CATEGORIES:Student Recital
ATTACH;FMTTYPE=image/png:https://music.wisc.edu/wp-content/uploads/2025/03/anna_desfor.png
END:VEVENT
BEGIN:VEVENT
DTSTART;TZID=America/Chicago:20260419T140000
DTEND;TZID=America/Chicago:20260419T140000
DTSTAMP:20260421T214626
CREATED:20260417T221330Z
LAST-MODIFIED:20260417T221349Z
UID:25542-1776607200-1776607200@music.wisc.edu
SUMMARY:Janet Lyu\, Heejo Yang\, Jun Lee & Kwanho Song - DMA Chamber Recital
DESCRIPTION:Free | No ticket required\nAlso streaming live \nDMA Chamber Recital \nJanet Lyu\, violin\nHeejo Yang\, viola\nJun Lee\, cello\nKwanho Song\, piano \n…… \nProgram \nPiano Quartet in A major\, op. 30       Ernest Chausson (1855-1899) \nIntermission \nPiano Quartet no. 1 in g minor\, op. 25       Johannes Brahms (1833-1897) \n…… \nThis recital is a joint effort of four doctoral students at the Mead Witter School of Music. Janet\, Heejo\, Jun\, and Kwanho are all of Korean descent and became friends through that common thread. \nAs a joint recital between the four students where each will fulfill a degree-required recital credit in the same afternoon\, the instrumentation required them to find two contrasting piano quartets. Ernest Chausson’s breathtaking opus 30 was written only two years before his untimely death and arguably has one of the best second movements to exist in piano quartet repertoire. Johannes Brahms’ opus 25 was premiered in Hamburg by none other than his most important interpreter and the object of his unrequited love\, Clara Schumann. \nThis ambitious yet auspicious program aims to showcase the Korean talent at the Mead Witter School of Music and present a most wonderful labor of love for piano chamber music.
URL:https://music.wisc.edu/event/lyu-yang-lee-song/
LOCATION:Collins Recital Hall\, Hamel Music Center\, 740 University Avenue\, Madison\, WI\, 53706\, United States
CATEGORIES:Student Recital
ATTACH;FMTTYPE=image/png:https://music.wisc.edu/wp-content/uploads/2026/04/chamber_thumbnail.png
END:VEVENT
BEGIN:VEVENT
DTSTART;TZID=America/Chicago:20260419T170000
DTEND;TZID=America/Chicago:20260419T170000
DTSTAMP:20260421T214626
CREATED:20260327T213422Z
LAST-MODIFIED:20260327T213422Z
UID:25356-1776618000-1776618000@music.wisc.edu
SUMMARY:Scott Lonzaga - Senior Recital
DESCRIPTION:Free | No ticket required \nScott Lonzaga Senior Drumset Recital \n 
URL:https://music.wisc.edu/event/scott-lonzaga/
LOCATION:Humanities Building\, 455 N. Park Street\, Madison\, WI\, 53706\, United States
CATEGORIES:Student Recital
ATTACH;FMTTYPE=image/jpeg:https://music.wisc.edu/wp-content/uploads/2021/07/Mosse_Humanities_Bldg21_8495.jpg
END:VEVENT
BEGIN:VEVENT
DTSTART;TZID=America/Chicago:20260419T193000
DTEND;TZID=America/Chicago:20260419T193000
DTSTAMP:20260421T214626
CREATED:20260327T213757Z
LAST-MODIFIED:20260410T153224Z
UID:25359-1776627000-1776627000@music.wisc.edu
SUMMARY:Haley Street - Senior Recital
DESCRIPTION:Free | No ticket required\nAlso streaming live \nHaley Street Senior Voice Recital \nHaley Street\, voice\nSarah Williams\, piano\nAbby Grittinger\, guitar\nMylana Lunde\, voice\nLydia Jewell\, voice\nEmmit Thom\, voice\nSheel Gupta\, voice \n…… \nProgram \nAriettes oubliées      Claude Debussy (1862-1918)\nChevaux de bois\nGreen\nSpleen \nSarah Williams\, piano \nTwelve Poems of Emily Dickinson    Aaron Copland (1900-1990)\nWhy do they shut me out of Heaven?\nHeart\, we will forget him\nSleep is supposed to be \nSarah Williams\, piano \nNotre Dame      Paris Paloma (b. 1999) \nAbby Grittinger\, guitar\nMylana Lunde\, voice\nLydia Jewell\, voice\nEmmit Thom\, voice\nSheel Gupta\, voice \nIntermission \nMädchenblumen     Richard Strauss (1864-1949)\nWasserrose\nKornblumen \nStändchen     Richard Strauss \nSarah Williams\, piano \nMoonfall – The Mystery of Edwin Drood \nAls Luise die Briefe  Wolfgang Amadeus Mozart (1756-1791) \nAch\, ich fühl’s      Wolfgang Amadeus Mozart \nSarah Williams\, piano \nNo One Else   Natasha\, Pierre & the Great Comet of 1812 \nSarah Williams\, piano \n 
URL:https://music.wisc.edu/event/haley-street/
LOCATION:Collins Recital Hall\, Hamel Music Center\, 740 University Avenue\, Madison\, WI\, 53706\, United States
CATEGORIES:Student Recital
ATTACH;FMTTYPE=image/png:https://music.wisc.edu/wp-content/uploads/2026/03/haley_street.png
END:VEVENT
BEGIN:VEVENT
DTSTART;TZID=America/Chicago:20260419T193000
DTEND;TZID=America/Chicago:20260419T193000
DTSTAMP:20260421T214626
CREATED:20260327T214223Z
LAST-MODIFIED:20260327T214223Z
UID:25361-1776627000-1776627000@music.wisc.edu
SUMMARY:Meghan Boelkow - DMA Recital
DESCRIPTION:Free | No ticket required \nMeghan Boelkow DMA Bassoon Chamber Recital \nMeghan Boelkow\nEmily Torkelson\nAlex Ferkey\nPresley Hansen\nAnders Larson\nMorgan Musil\nFiona Hunt \n…… \nBassoonist Meghan Boelkow will be giving her first DMA Chamber Recital at UW–Madison. Originally from Wisconsin\, Meghan received her Bachelor’s Degree at UW-Platteville and her Master of Music Degree at the University of Illinois Urbana-Champaign. Meghan is excited to present a program that consists of a variety of instruments and music. This program will be giving the spotlight to instruments that don’t normally get to play together; including the bassoon with the cello\, tuba\, upright bass\, and harp. Join us on this fun adventure with “Voices Unheard.”
URL:https://music.wisc.edu/event/meghan-boelkow/
LOCATION:Humanities Building\, 455 N. Park Street\, Madison\, WI\, 53706\, United States
CATEGORIES:Student Recital
ATTACH;FMTTYPE=image/png:https://music.wisc.edu/wp-content/uploads/2026/03/meghan_boelkow.png
END:VEVENT
BEGIN:VEVENT
DTSTART;TZID=America/Chicago:20260421T193000
DTEND;TZID=America/Chicago:20260421T193000
DTSTAMP:20260421T214626
CREATED:20260417T230041Z
LAST-MODIFIED:20260417T230041Z
UID:25554-1776799800-1776799800@music.wisc.edu
SUMMARY:Riley Smith - DMA Lecture Recital
DESCRIPTION:Free | No ticket required \nMorphy Recital Hall \nRiley Smith DMA Classical Guitar Lecture Recital \n…… \nProgram \nOpening      Philip Glass \nOración        Alan Mearns \nMetanoia      Adam Rook \nBloom Suite     Elliot Cole \nKoyunbaba       Carlo Domeniconi \n…… \nRiley Smith is a classical guitarist and educator from Michigan. He developed an early passion for the instrument under the guidance of Dr. Brad DeRoche. Riley holds two degrees in classical guitar performance: a Bachelor of Fine Arts (2020) from the University of Wisconsin–Milwaukee\, where he studied with René Izquierdo\, and a Master of Music (2022) from Columbus State University under Dr. Andrew Zohn. He is currently pursuing a Doctor of Musical Arts in guitar performance at the University of Wisconsin–Madison\, studying with Javier Calderon. \nRiley maintains an active teaching career through both private instruction and work at professional institutions.
URL:https://music.wisc.edu/event/riley-smith-2/
LOCATION:Humanities Building\, 455 N. Park Street\, Madison\, WI\, 53706\, United States
CATEGORIES:Student Recital
ATTACH;FMTTYPE=image/jpeg:https://music.wisc.edu/wp-content/uploads/2023/11/riley_smith.jpg
END:VEVENT
BEGIN:VEVENT
DTSTART;TZID=America/Chicago:20260423T193000
DTEND;TZID=America/Chicago:20260423T193000
DTSTAMP:20260421T214626
CREATED:20260410T171137Z
LAST-MODIFIED:20260410T171137Z
UID:25507-1776972600-1776972600@music.wisc.edu
SUMMARY:Piano department recital
DESCRIPTION:Free | No ticket required \nFeaturing performances by piano department students
URL:https://music.wisc.edu/event/piano-department-recital-2/
LOCATION:Collins Recital Hall\, Hamel Music Center\, 740 University Avenue\, Madison\, WI\, 53706\, United States
CATEGORIES:Student Recital
ATTACH;FMTTYPE=image/jpeg:https://music.wisc.edu/wp-content/uploads/2021/07/hamel_music_center_collins_hall.jpg
END:VEVENT
BEGIN:VEVENT
DTSTART;TZID=America/Chicago:20260424T163000
DTEND;TZID=America/Chicago:20260424T163000
DTSTAMP:20260421T214626
CREATED:20260410T171733Z
LAST-MODIFIED:20260410T171733Z
UID:25509-1777048200-1777048200@music.wisc.edu
SUMMARY:Ryan Valdivia - Master's Recital
DESCRIPTION:Free | No ticket required \nRyan Valdivia Master’s Trumpet Recital \n…… \nProgram  \nConcerto for Trumpet (1955/1978)      Aleksandra Pakhmutova (b. 1929) \nSuite for Flugelhorn (2009)      Betsy Schramm (b. 1964)\nI. Prisms\nII. Reflections (Like motes of light)\nIII. Mirrors\nIV. Dance \nNothing Less (2021)       Caleb Hudson (b. 1988)\nI. Still Small Voice\nII. Prophets of Baal\nIII. That They Will Know\nIV. Covenant \nConcerto (2026)       Kirsten Townander (b. 2001)\nI\nII\nIII\nWorld premiere \nAmazing Grace (1986)      Traditional/arr. Luther Henderson (1919-2003)
URL:https://music.wisc.edu/event/ryan-valdivia/
LOCATION:Collins Recital Hall\, Hamel Music Center\, 740 University Avenue\, Madison\, WI\, 53706\, United States
CATEGORIES:Student Recital
ATTACH;FMTTYPE=image/png:https://music.wisc.edu/wp-content/uploads/2026/04/ryan_valdivia.png
END:VEVENT
BEGIN:VEVENT
DTSTART;TZID=America/Chicago:20260424T193000
DTEND;TZID=America/Chicago:20260424T193000
DTSTAMP:20260421T214626
CREATED:20260410T171937Z
LAST-MODIFIED:20260410T171937Z
UID:25512-1777059000-1777059000@music.wisc.edu
SUMMARY:Harp studio recital
DESCRIPTION:Free | No ticket required \nMorphy Recital Hall \nEllison Xu\nFiona Hunt\nScarlett Felando\nCaitlin Leung\nSadie Smith\nSophia Speece \n 
URL:https://music.wisc.edu/event/harp-studio-recital/
LOCATION:Humanities Building\, 455 N. Park Street\, Madison\, WI\, 53706\, United States
CATEGORIES:Student Recital
ATTACH;FMTTYPE=image/jpeg:https://music.wisc.edu/wp-content/uploads/2021/07/Mosse_Humanities_Bldg21_8495.jpg
END:VEVENT
BEGIN:VEVENT
DTSTART;TZID=America/Chicago:20260425T110000
DTEND;TZID=America/Chicago:20260425T110000
DTSTAMP:20260421T214626
CREATED:20260216T224916Z
LAST-MODIFIED:20260216T224916Z
UID:24923-1777114800-1777114800@music.wisc.edu
SUMMARY:Margaret Cremers - Master's Recital
DESCRIPTION:Free | No ticket required \nMargaret Cremers Master’s Trombone Recital \nMaragret Cremers\, trombone\nVincent Fuh\, piano\n…… \nProgram  \nBlue: A Broken Glass Bottle      Ryan Middagh \nBirds of Paradise     Jay Chaplin \nIntermission \nVariations in F#       Leon Stekke \nThree Latin Jazz Miniatures     Bob Washut\nI. Prelude and Mambo\nII. Bolero\nIII. Guaguanco \n…… \nOriginally from Iowa City\, Maggie Cremers holds a Bachelor’s degree in Music Education from the University of Northern Iowa and is currently completing her Master’s in Trombone Performance. During her time at the University of Wisconsin\, she has participated in a wide range of student ensembles\, showcasing her versatility and passion for performing in both the classical and jazz traditions. \nMaggie regularly performs with the Iowa Women’s Jazz Orchestra and is a founding member of The Wayward Ensemble\, where she continues to explore story telling through creative music making. \nOutside of her musical pursuits\, Maggie works as a baker at Bloom Bake Shop and enjoys spending time outdoors with her partner and their puppy.
URL:https://music.wisc.edu/event/margaret-cremers/
LOCATION:Collins Recital Hall\, Hamel Music Center\, 740 University Avenue\, Madison\, WI\, 53706\, United States
CATEGORIES:Student Recital
ATTACH;FMTTYPE=image/png:https://music.wisc.edu/wp-content/uploads/2026/02/margaret_cremers.png
END:VEVENT
BEGIN:VEVENT
DTSTART;TZID=America/Chicago:20260430T193000
DTEND;TZID=America/Chicago:20260430T193000
DTSTAMP:20260421T214626
CREATED:20260420T193138Z
LAST-MODIFIED:20260420T193219Z
UID:25566-1777577400-1777577400@music.wisc.edu
SUMMARY:Isla Coronado - Master's Recital
DESCRIPTION:Free | No ticket required\nAlso streaming live \nIsla Coronado Master’s Flute Recital \nIsla Coronado\, flute\nTom Lacy\, oboe\nStephen Dubetz\, clarinet\nMinha Jeon\, piano\nJanet Lyu\, violin\nBen Campbell\, violin\nSage Eckard-Lee\, viola\nTim Sachtleben\, cello\nSarah Williams\, piano \n…… \nProgram \nEast Wind       Shulamit Ran (b.1949) \nAir for Flute and String Quartet      Aaron Jay Kernis (b. 1960) \nSonata for Flute\, Clarinet\, Oboe\, and Piano\, Op.47     Darius Milhaud (1892-1974)\nI. Tranquille\nII. Joyeux\nIII. Emporte\nIV. Douloureux \nFlute Sonata in D Major\, Op.94      Sergei Prokofiev   (1891-1953)\nI. Moderato\nII. Scherzo\nIII. Andante\nIV. Allegro con brio
URL:https://music.wisc.edu/event/isla-coronado/
LOCATION:Collins Recital Hall\, Hamel Music Center\, 740 University Avenue\, Madison\, WI\, 53706\, United States
CATEGORIES:Student Recital
ATTACH;FMTTYPE=image/png:https://music.wisc.edu/wp-content/uploads/2026/04/isla_coronado.png
END:VEVENT
BEGIN:VEVENT
DTSTART;TZID=America/Chicago:20260501T193000
DTEND;TZID=America/Chicago:20260501T193000
DTSTAMP:20260421T214626
CREATED:20260420T185945Z
LAST-MODIFIED:20260420T190125Z
UID:25561-1777663800-1777663800@music.wisc.edu
SUMMARY:Spencer Hart - DMA Recital
DESCRIPTION:Free | No ticket required\nAlso streaming live \nSpencer Hart DMA Tuba Recital \nSpencer Hart\nWade Matthew Troyer\nKevin Friermood\nJocelyn Edgar\nJoshua Baker \n…… \nProgram\nCollusion \nCat Affairs      Anna Baadsvik (b. 1966) \nTBA Consortium piece for tuba\, piano\, and euphonium        Gala Flagello (b. 1994) \nConversations        Barbara York (1949-2020) \nIntermission \nURSA        Libby Larsen (b. 1950) \nCollusion Tuba Concerto      Rob Teehan (b. 1983)
URL:https://music.wisc.edu/event/spencer-hart-2/
LOCATION:Collins Recital Hall\, Hamel Music Center\, 740 University Avenue\, Madison\, WI\, 53706\, United States
CATEGORIES:Student Recital
ATTACH;FMTTYPE=image/png:https://music.wisc.edu/wp-content/uploads/2026/02/spencer_hart.png
END:VEVENT
BEGIN:VEVENT
DTSTART;TZID=America/Chicago:20260502T193000
DTEND;TZID=America/Chicago:20260502T193000
DTSTAMP:20260421T214626
CREATED:20260407T194510Z
LAST-MODIFIED:20260407T194510Z
UID:25410-1777750200-1777750200@music.wisc.edu
SUMMARY:Dominik Cambeis - DMA Recital
DESCRIPTION:Free | No ticket required \nDominik Cambeis DMA Piano Recital \n…… \nProgram \nSonata No. 29 in B flat Major\, op. 106 (1819)    Ludwig van Beethoven (1770-1827)\nI. Allegro\nII. Scherzo: Assai vivace\nIII. Adagio sostenuto\nIV. Introduzione: Largo – Fuga: Allegro risoluto \n…… \nDominik Cambeis started playing the piano at the age of 11. In his first piano competition in 2011\, the national competition for young pianists (“Jugend musiziert”)\, he won the first prize in regional and the state round\, and the second prize in the national round. \nFrom 2013 until 2017\, he was studying his Bachelor degree in the Yong Siew Toh Conservatory of Music under Thomas Hecht. In October 2016\, he helped prepare the Yong Siew Toh Conservatory Orchestra as the soloist in Beethoven’s piano concerto No. 1 for Sir Andras Schiff. One year later\, he was one of the finalists in the International Anton Rubinstein Competition in Düsseldorf\, Germany. \nDominik performed Beethoven’s Piano Concerto No. 1 with the Staatsphilharmonie Rheinland-Pfalz in April 2018. \nBetween 2018 to 2020\, he pursued his Master degree in the University of Missouri-Kansas City with a granted scholarship and teaching assistantship under Thomas Rosenkranz. \nIn November of 2018\, he won the 1st Prize at the MMTA Competition (Graduate Division) and in Februar of 2020\, he won the 3rd place in the Zschietzschmann Scholarship competition. \nAfter finishing his Master’s\, Dominik continued his studies in a one-year Graduate Certificate program with Neil Rutman at the University of Central Arkansas where he earned a full scholarship and graduate assistantship to prepare for his Doctoral auditions. In April\, of 2022 he won the Irving Shain Beethoven competition and in October he was announced the finalist of the internal Mead Witter School of Music Concerto Competition. In February 2023\, Dominik won the Irving Shain Piano and Woodwind Duo Competition. Since fall of 2021\, Dominik studies his DMA degree in Piano Performance with Prof. Christopher Taylor where he holds a full scholarship and teaching assistantship in piano instruction\, music theory\, and musicology courses. As a current dissertator\, he is working on his thesis about Beethoven’s Op. 106 Sonata (Hammerklavier).
URL:https://music.wisc.edu/event/dominik-cambeis/
LOCATION:Collins Recital Hall\, Hamel Music Center\, 740 University Avenue\, Madison\, WI\, 53706\, United States
CATEGORIES:Student Recital
ATTACH;FMTTYPE=image/png:https://music.wisc.edu/wp-content/uploads/2026/04/dominik_cambeis.png
END:VEVENT
BEGIN:VEVENT
DTSTART;TZID=America/Chicago:20260504T193000
DTEND;TZID=America/Chicago:20260504T193000
DTSTAMP:20260421T214626
CREATED:20260410T143917Z
LAST-MODIFIED:20260410T143917Z
UID:25472-1777923000-1777923000@music.wisc.edu
SUMMARY:The Badger Bassoon Ensemble
DESCRIPTION:Free | No ticket required \nMorphy Recital Hall \nFeaturing bassoon students: \nShannon Finn\nMorgan Musil\nMeghan Boelkow\nKatrina Feltz\nPresley Mae Hansen\nSarah Ellenbecker\nSamantha Fogel\nBraedon Chalmers Lukey\nAnders Larson\nProfessor Eleni Katz \n…… \nProgram\nBadger Bassoon Ensemble Summer Send-Off \nPavane       Gabriel Fauré \nSuper Mario Bassoon Quartet     arr. Guangyuan Shi\nAdapted: Michele Di Franco \nUnder the Sea      Menken/Ashman/arr. Nik Hooks \nThe Witches Frolic      Granville Bantock \nHumorous Scherzo      Serge Prokofiev \nSuite from “The Nutcracker”      Pyotr Ilyich Tchaikovsky\n1. Miniature Overture Arr. Craig Kaucher ’\n2. Arabian Dance\n3. March\n4. Dance of the Sugarplum Fairy\n5. Trépak \nBrief Pause \nCantina Band from Star Wars      John WIlliams/arr. Ashby Mayes \nStar Wars Medley     The Breaking Winds \nBassoon Set       Adolphus Hailstork\nPresley Hansen \nCeltic Bassoons      Celtic Woman & Ella Roberts/arr. Shannon Finn \nDance Suite       Jaqueline Wilson\nShannon Finn \nMoon River       Johnny Mercer & Henry Mancini/arr. James Christensen \nLady Gaga Saga       Breaking Winds Bassoon Quartet \n…… \nCelebrate the end of the semester at the Mead Witter School of Music with the Badger Bassoon Ensemble Summer Send-Off! This lively program features a wide range of music\, from classical favorites like Fauré’s Pavane and selections from Tchaikovsky’s Nutcracker Suite to film and popular hits including Under the Sea\, Moon River\, and music from Star Wars (Happy May the Fourth!).The evening marks a joyful celebration of the academic year’s work. Join the bassoon studio on May 4 at 7:30 PM in Morphy Recital Hall to get to know Professor Katz and the members of the UW Bassoon Studio! We will also honor our two graduating seniors\, recognizing their achievements and contributions. Hope to see you in the audience for this inaugural event!
URL:https://music.wisc.edu/event/badger-bassoon-ensemble/
LOCATION:Humanities Building\, 455 N. Park Street\, Madison\, WI\, 53706\, United States
CATEGORIES:Student Recital
ATTACH;FMTTYPE=image/png:https://music.wisc.edu/wp-content/uploads/2026/04/badger_bassoons.png
END:VEVENT
END:VCALENDAR