BEGIN:VCALENDAR
VERSION:2.0
PRODID:-//Mead Witter School of Music - ECPv6.15.18//NONSGML v1.0//EN
CALSCALE:GREGORIAN
METHOD:PUBLISH
X-ORIGINAL-URL:https://music.wisc.edu
X-WR-CALDESC:Events for Mead Witter School of Music
REFRESH-INTERVAL;VALUE=DURATION:PT1H
X-Robots-Tag:noindex
X-PUBLISHED-TTL:PT1H
BEGIN:VTIMEZONE
TZID:America/Chicago
BEGIN:DAYLIGHT
TZOFFSETFROM:-0600
TZOFFSETTO:-0500
TZNAME:CDT
DTSTART:20250309T080000
END:DAYLIGHT
BEGIN:STANDARD
TZOFFSETFROM:-0500
TZOFFSETTO:-0600
TZNAME:CST
DTSTART:20251102T070000
END:STANDARD
BEGIN:DAYLIGHT
TZOFFSETFROM:-0600
TZOFFSETTO:-0500
TZNAME:CDT
DTSTART:20260308T080000
END:DAYLIGHT
BEGIN:STANDARD
TZOFFSETFROM:-0500
TZOFFSETTO:-0600
TZNAME:CST
DTSTART:20261101T070000
END:STANDARD
BEGIN:DAYLIGHT
TZOFFSETFROM:-0600
TZOFFSETTO:-0500
TZNAME:CDT
DTSTART:20270314T080000
END:DAYLIGHT
BEGIN:STANDARD
TZOFFSETFROM:-0500
TZOFFSETTO:-0600
TZNAME:CST
DTSTART:20271107T070000
END:STANDARD
END:VTIMEZONE
BEGIN:VEVENT
DTSTART;TZID=America/Chicago:20260419T140000
DTEND;TZID=America/Chicago:20260419T140000
DTSTAMP:20260420T231947
CREATED:20251209T220311Z
LAST-MODIFIED:20260416T170725Z
UID:24421-1776607200-1776607200@music.wisc.edu
SUMMARY:University Bands - Student Ensemble Series
DESCRIPTION:Purchase tickets\n$10 general admission\nStudents free (ticket required)\nAlso streaming live \nHerb Payung\, R. Louis Vajda\, and Ben Grochowsky\, conductors\nTyler Schuster\, guest conductor\nJoshua Baker\, guest conductor & soloist\nEloise Berkley\, soloist \n…… \nProgram 
URL:https://music.wisc.edu/event/university-bands-4/
LOCATION:Mead Witter Foundation Concert Hall\, Hamel Music Center\, 740 University Avenue\, Madison\, WI\, 53706\, United States
CATEGORIES:Student Ensemble Series
ATTACH;FMTTYPE=image/png:https://music.wisc.edu/wp-content/uploads/2024/05/university_bands.png
END:VEVENT
BEGIN:VEVENT
DTSTART;TZID=America/Chicago:20260419T193000
DTEND;TZID=America/Chicago:20260419T193000
DTSTAMP:20260420T231947
CREATED:20251209T220128Z
LAST-MODIFIED:20260416T171851Z
UID:24419-1776627000-1776627000@music.wisc.edu
SUMMARY:Low Brass Ensemble - Student Ensemble Series
DESCRIPTION:Free | No ticket required\nAlso streaming live \nTom Curry and Mark Hetzler\, directors \n…… \nProgram 
URL:https://music.wisc.edu/event/low-brass-ensemble/
LOCATION:Mead Witter Foundation Concert Hall\, Hamel Music Center\, 740 University Avenue\, Madison\, WI\, 53706\, United States
CATEGORIES:Student Ensemble Series
ATTACH;FMTTYPE=image/jpeg:https://music.wisc.edu/wp-content/uploads/2023/07/low_brass_ensemble-scaled.jpg
END:VEVENT
END:VCALENDAR