BEGIN:VCALENDAR
VERSION:2.0
PRODID:-//Mead Witter School of Music - ECPv6.15.18//NONSGML v1.0//EN
CALSCALE:GREGORIAN
METHOD:PUBLISH
X-ORIGINAL-URL:https://music.wisc.edu
X-WR-CALDESC:Events for Mead Witter School of Music
REFRESH-INTERVAL;VALUE=DURATION:PT1H
X-Robots-Tag:noindex
X-PUBLISHED-TTL:PT1H
BEGIN:VTIMEZONE
TZID:America/Chicago
BEGIN:DAYLIGHT
TZOFFSETFROM:-0600
TZOFFSETTO:-0500
TZNAME:CDT
DTSTART:20250309T080000
END:DAYLIGHT
BEGIN:STANDARD
TZOFFSETFROM:-0500
TZOFFSETTO:-0600
TZNAME:CST
DTSTART:20251102T070000
END:STANDARD
BEGIN:DAYLIGHT
TZOFFSETFROM:-0600
TZOFFSETTO:-0500
TZNAME:CDT
DTSTART:20260308T080000
END:DAYLIGHT
BEGIN:STANDARD
TZOFFSETFROM:-0500
TZOFFSETTO:-0600
TZNAME:CST
DTSTART:20261101T070000
END:STANDARD
BEGIN:DAYLIGHT
TZOFFSETFROM:-0600
TZOFFSETTO:-0500
TZNAME:CDT
DTSTART:20270314T080000
END:DAYLIGHT
BEGIN:STANDARD
TZOFFSETFROM:-0500
TZOFFSETTO:-0600
TZNAME:CST
DTSTART:20271107T070000
END:STANDARD
END:VTIMEZONE
BEGIN:VEVENT
DTSTART;TZID=America/Chicago:20260418T193000
DTEND;TZID=America/Chicago:20260418T193000
DTSTAMP:20260421T010433
CREATED:20260410T144811Z
LAST-MODIFIED:20260416T160534Z
UID:25475-1776540600-1776540600@music.wisc.edu
SUMMARY:C8dence Vocal Ensemble
DESCRIPTION:Free | No ticket required\nAlso streaming live \nDr. Sarah Brailey\, director\nR. Louis Vajda\, conductor \nC8dence: Gillian Hollis\, Anya Smith\, Mylana Lunde\, Shuhan Xu\, Rach Misner\, Jacob Zehr\, Ryan Rowe\, Benjamin Hanson\, Andrew Dirkse \nMadison Chamber Players: Louis Vajda\, Alice Alford\, Stephen Dubetz\, Trista Schepp\, Jocelyn Edgar\, Tanner Day\, Hyeyeon Seok\, Bethany Olson\, Simon Teckam\, Killian Knapp \, Anton Wachmann \n…… \nProgram \n \n…… \nC8dence is a vocal chamber ensemble\, directed by Dr. Sarah Brailey\, committed to the performance of contemporary repertoire\, with a particular focus on exploring the vast expressive and technical capabilities of the human voice. The ensemble offers students the opportunity to arrange or compose works for performance\, to gain pedagogical experience through leading rehearsals\, and to collaborate directly with professional composers as well as student composers from the School of Music.
URL:https://music.wisc.edu/event/c8dence-vocal-ensemble/
LOCATION:Collins Recital Hall\, Hamel Music Center\, 740 University Avenue\, Madison\, WI\, 53706\, United States
CATEGORIES:Student Ensemble Series
ATTACH;FMTTYPE=image/png:https://music.wisc.edu/wp-content/uploads/2026/04/c8dence.png
END:VEVENT
END:VCALENDAR