BEGIN:VCALENDAR
VERSION:2.0
PRODID:-//Mead Witter School of Music - ECPv6.15.18//NONSGML v1.0//EN
CALSCALE:GREGORIAN
METHOD:PUBLISH
X-WR-CALNAME:Mead Witter School of Music
X-ORIGINAL-URL:https://music.wisc.edu
X-WR-CALDESC:Events for Mead Witter School of Music
REFRESH-INTERVAL;VALUE=DURATION:PT1H
X-Robots-Tag:noindex
X-PUBLISHED-TTL:PT1H
BEGIN:VTIMEZONE
TZID:America/Chicago
BEGIN:DAYLIGHT
TZOFFSETFROM:-0600
TZOFFSETTO:-0500
TZNAME:CDT
DTSTART:20250309T080000
END:DAYLIGHT
BEGIN:STANDARD
TZOFFSETFROM:-0500
TZOFFSETTO:-0600
TZNAME:CST
DTSTART:20251102T070000
END:STANDARD
BEGIN:DAYLIGHT
TZOFFSETFROM:-0600
TZOFFSETTO:-0500
TZNAME:CDT
DTSTART:20260308T080000
END:DAYLIGHT
BEGIN:STANDARD
TZOFFSETFROM:-0500
TZOFFSETTO:-0600
TZNAME:CST
DTSTART:20261101T070000
END:STANDARD
BEGIN:DAYLIGHT
TZOFFSETFROM:-0600
TZOFFSETTO:-0500
TZNAME:CDT
DTSTART:20270314T080000
END:DAYLIGHT
BEGIN:STANDARD
TZOFFSETFROM:-0500
TZOFFSETTO:-0600
TZNAME:CST
DTSTART:20271107T070000
END:STANDARD
END:VTIMEZONE
BEGIN:VEVENT
DTSTART;TZID=America/Chicago:20260501T193000
DTEND;TZID=America/Chicago:20260501T193000
DTSTAMP:20260420T231236
CREATED:20251209T224202Z
LAST-MODIFIED:20251209T224202Z
UID:24446-1777663800-1777663800@music.wisc.edu
SUMMARY:World Percussion Ensemble - Student Ensemble Series
DESCRIPTION:Free | No ticket required \nThe World Percussion Ensemble is a chamber group dedicated to the performance of significant percussive styles from around the globe. Percussion traditions from various cultures\, including Cuba\, Brazil\, India\, West Africa and the Middle East are explored through performance and cultural research. In addition\, the World Percussion Ensemble occasionally collaborates with faculty and students from the UW dance program. \n 
URL:https://music.wisc.edu/event/world-percussion-ensemble-2/
LOCATION:Music Hall\, 925 Bascom Mall\, Madison\, WI\, United States
CATEGORIES:Student Ensemble Series
ATTACH;FMTTYPE=image/jpeg:https://music.wisc.edu/wp-content/uploads/2020/09/Music_Hall_autumn13_3765.jpg
END:VEVENT
BEGIN:VEVENT
DTSTART;TZID=America/Chicago:20260501T193000
DTEND;TZID=America/Chicago:20260501T193000
DTSTAMP:20260420T231236
CREATED:20251209T224821Z
LAST-MODIFIED:20260128T210752Z
UID:24448-1777663800-1777663800@music.wisc.edu
SUMMARY:Spring Choir Concert - Student Ensemble Series
DESCRIPTION:Purchase tickets\n$10 general admission\nStudents free (ticket required) \nFeaturing Treble Choir and University Chorus
URL:https://music.wisc.edu/event/spring-choir-concert/
LOCATION:Mead Witter Foundation Concert Hall\, Hamel Music Center\, 740 University Avenue\, Madison\, WI\, 53706\, United States
CATEGORIES:Student Ensemble Series
ATTACH;FMTTYPE=image/jpeg:https://music.wisc.edu/wp-content/uploads/2025/02/university_chorus_2025-scaled.jpg
END:VEVENT
END:VCALENDAR