BEGIN:VCALENDAR
VERSION:2.0
PRODID:-//Mead Witter School of Music - ECPv6.15.18//NONSGML v1.0//EN
CALSCALE:GREGORIAN
METHOD:PUBLISH
X-WR-CALNAME:Mead Witter School of Music
X-ORIGINAL-URL:https://music.wisc.edu
X-WR-CALDESC:Events for Mead Witter School of Music
REFRESH-INTERVAL;VALUE=DURATION:PT1H
X-Robots-Tag:noindex
X-PUBLISHED-TTL:PT1H
BEGIN:VTIMEZONE
TZID:America/Chicago
BEGIN:DAYLIGHT
TZOFFSETFROM:-0600
TZOFFSETTO:-0500
TZNAME:CDT
DTSTART:20250309T080000
END:DAYLIGHT
BEGIN:STANDARD
TZOFFSETFROM:-0500
TZOFFSETTO:-0600
TZNAME:CST
DTSTART:20251102T070000
END:STANDARD
BEGIN:DAYLIGHT
TZOFFSETFROM:-0600
TZOFFSETTO:-0500
TZNAME:CDT
DTSTART:20260308T080000
END:DAYLIGHT
BEGIN:STANDARD
TZOFFSETFROM:-0500
TZOFFSETTO:-0600
TZNAME:CST
DTSTART:20261101T070000
END:STANDARD
BEGIN:DAYLIGHT
TZOFFSETFROM:-0600
TZOFFSETTO:-0500
TZNAME:CDT
DTSTART:20270314T080000
END:DAYLIGHT
BEGIN:STANDARD
TZOFFSETFROM:-0500
TZOFFSETTO:-0600
TZNAME:CST
DTSTART:20271107T070000
END:STANDARD
END:VTIMEZONE
BEGIN:VEVENT
DTSTART;TZID=America/Chicago:20260301T140000
DTEND;TZID=America/Chicago:20260301T140000
DTSTAMP:20260420T231323
CREATED:20251015T201911Z
LAST-MODIFIED:20260224T163911Z
UID:23836-1772373600-1772373600@music.wisc.edu
SUMMARY:University Bands - Student Ensemble Series
DESCRIPTION:Purchase tickets\n$10 general admission\nStudents free (ticket required)\nAlso streaming live \nHerb Payung\, R. Louis Vajda\, and Tyler Schuster\, conductorsBen Grochowsky\, guest conductor \n…… \nProgram 
URL:https://music.wisc.edu/event/university-bands-3/
LOCATION:Mead Witter Foundation Concert Hall\, Hamel Music Center\, 740 University Avenue\, Madison\, WI\, 53706\, United States
CATEGORIES:Student Ensemble Series
ATTACH;FMTTYPE=image/png:https://music.wisc.edu/wp-content/uploads/2024/05/university_bands.png
END:VEVENT
BEGIN:VEVENT
DTSTART;TZID=America/Chicago:20260304T193000
DTEND;TZID=America/Chicago:20260304T193000
DTSTAMP:20260420T231323
CREATED:20251209T205820Z
LAST-MODIFIED:20260226T203734Z
UID:24386-1772652600-1772652600@music.wisc.edu
SUMMARY:Blue Note Ensemble & Contemporary Jazz Ensemble - Student Ensemble Series
DESCRIPTION:Free | No ticket required\nAlso streaming live \nDan VanZeeland and Mitchell Shiner\, directors \n…… \nProgram
URL:https://music.wisc.edu/event/blue-note-ensemble-contemporary-jazz-ensemble/
LOCATION:Collins Recital Hall\, Hamel Music Center\, 740 University Avenue\, Madison\, WI\, 53706\, United States
CATEGORIES:Student Ensemble Series
ATTACH;FMTTYPE=image/png:https://music.wisc.edu/wp-content/uploads/2025/12/blue_note_ensemble_2025-scaled.png
END:VEVENT
BEGIN:VEVENT
DTSTART;TZID=America/Chicago:20260305T193000
DTEND;TZID=America/Chicago:20260305T193000
DTSTAMP:20260420T231323
CREATED:20251209T210110Z
LAST-MODIFIED:20260226T205425Z
UID:24389-1772739000-1772739000@music.wisc.edu
SUMMARY:Afro-Cuban Jazz Ensemble - Student Ensemble Series
DESCRIPTION:Free | No ticket required\nAlso streaming live \nNick Moran\, director \n…… \nProgram 
URL:https://music.wisc.edu/event/afro-cuban-jazz/
LOCATION:Collins Recital Hall\, Hamel Music Center\, 740 University Avenue\, Madison\, WI\, 53706\, United States
CATEGORIES:Student Ensemble Series
ATTACH;FMTTYPE=image/png:https://music.wisc.edu/wp-content/uploads/2024/07/afro_cuban_jazz_2024.png
END:VEVENT
BEGIN:VEVENT
DTSTART;TZID=America/Chicago:20260306T193000
DTEND;TZID=America/Chicago:20260306T193000
DTSTAMP:20260420T231323
CREATED:20251209T211052Z
LAST-MODIFIED:20260303T202103Z
UID:24392-1772825400-1772825400@music.wisc.edu
SUMMARY:Treble Choir\, University Chorus\, & Chorale - Student Ensemble Series
DESCRIPTION:Purchase tickets\n$20 general admission\nStudents free (ticket required)\nAlso streaming live \nMonica Bertrand\, Benjamin Hanson\, Alessio Tranchell\, and Bert Pinsonneault\, conductors\nSérgio Fontão\, guest conductor\nMariana Farah\, faculty advisor \n…… \nProgram
URL:https://music.wisc.edu/event/treble-choir-university-chorus-chorale/
LOCATION:Mead Witter Foundation Concert Hall\, Hamel Music Center\, 740 University Avenue\, Madison\, WI\, 53706\, United States
CATEGORIES:Student Ensemble Series
ATTACH;FMTTYPE=image/png:https://music.wisc.edu/wp-content/uploads/2023/03/choirs.png
END:VEVENT
BEGIN:VEVENT
DTSTART;TZID=America/Chicago:20260309T193000
DTEND;TZID=America/Chicago:20260309T193000
DTSTAMP:20260420T231323
CREATED:20251209T213423Z
LAST-MODIFIED:20260302T192728Z
UID:24401-1773084600-1773084600@music.wisc.edu
SUMMARY:Jazz Composers' Group & Creative Music Collective - Student Ensemble Series
DESCRIPTION:Free | No ticket required\nAlso streaming live \nAruṇ Lūthrā and Anders Svanoe\, directors \n…… \nProgram 
URL:https://music.wisc.edu/event/jazz-composers-group-creative-music-ensemble/
LOCATION:Collins Recital Hall\, Hamel Music Center\, 740 University Avenue\, Madison\, WI\, 53706\, United States
CATEGORIES:Student Ensemble Series
ATTACH;FMTTYPE=image/png:https://music.wisc.edu/wp-content/uploads/2025/07/jazz_composers_group.png
END:VEVENT
BEGIN:VEVENT
DTSTART;TZID=America/Chicago:20260316T193000
DTEND;TZID=America/Chicago:20260316T193000
DTSTAMP:20260420T231323
CREATED:20251209T214635Z
LAST-MODIFIED:20260312T184759Z
UID:24408-1773689400-1773689400@music.wisc.edu
SUMMARY:Wind Ensemble - Student Ensemble Series
DESCRIPTION:Purchase tickets\n$20 general admission\nStudents free (ticket required)\nAlso streaming live \nScott Teeple\, conductor\nHerb Payung\, R. Louis Vajda\, and Ben Grochowsky\, guest conductors \n…… \nProgram
URL:https://music.wisc.edu/event/wind-ensemble-4/
LOCATION:Mead Witter Foundation Concert Hall\, Hamel Music Center\, 740 University Avenue\, Madison\, WI\, 53706\, United States
CATEGORIES:Student Ensemble Series
ATTACH;FMTTYPE=image/png:https://music.wisc.edu/wp-content/uploads/2025/10/wind_ensemble_2025.png
END:VEVENT
BEGIN:VEVENT
DTSTART;TZID=America/Chicago:20260325T193000
DTEND;TZID=America/Chicago:20260325T193000
DTSTAMP:20260420T231323
CREATED:20251209T215131Z
LAST-MODIFIED:20260323T151333Z
UID:24410-1774467000-1774467000@music.wisc.edu
SUMMARY:University Symphony Orchestra - Student Ensemble Series
DESCRIPTION:Purchase tickets\n$20 general admission\nStudents free (ticket required)\nAlso streaming live \nOriol Sans\, conductor \nWith guest\nDawn Wohn\, violin \nPre-concert talk begins at 7 pm \n…… \nProgram \nThis program traces a powerful arc from explosive modern energy to timeless symphonic exhilaration. Inspired by Beethoven’s music\, Unsuk Chin’s Subito con forza bursts onto the stage with razor-sharp rhythms and volatile color.  \nThe concert will continue with the lyrical warmth of Samuel Barber’s Violin Concerto\, featuring Mead Witter School of Music Assistant Professor of Violin Dawn Wohn. Its emotional candor takes the listener from rhapsodic intimacy to a finale of dazzling propulsion that will culminate in Beethoven’s Symphony No. 7\, an incredible work of unstoppable momentum whose driving rhythms and ecstatic vitality have made it one of the most electrifying celebrations in the orchestral repertoire.
URL:https://music.wisc.edu/event/university-symphony-orchestra-4/
LOCATION:Mead Witter Foundation Concert Hall\, Hamel Music Center\, 740 University Avenue\, Madison\, WI\, 53706\, United States
CATEGORIES:Student Ensemble Series
ATTACH;FMTTYPE=image/png:https://music.wisc.edu/wp-content/uploads/2025/10/symphony_orchestra_2025.png
END:VEVENT
BEGIN:VEVENT
DTSTART;TZID=America/Chicago:20260326T193000
DTEND;TZID=America/Chicago:20260326T193000
DTSTAMP:20260420T231323
CREATED:20251209T215403Z
LAST-MODIFIED:20260312T203009Z
UID:24413-1774553400-1774553400@music.wisc.edu
SUMMARY:Concert Band - Student Ensemble Series
DESCRIPTION:Purchase tickets\n$20 general admission\nStudents free (ticket required)\nAlso streaming live \nCorey Pompey\, conductor\nTyler Schuster\, guest conductor \n…… \nProgram 
URL:https://music.wisc.edu/event/concert-band-4/
LOCATION:Mead Witter Foundation Concert Hall\, Hamel Music Center\, 740 University Avenue\, Madison\, WI\, 53706\, United States
CATEGORIES:Student Ensemble Series
ATTACH;FMTTYPE=image/png:https://music.wisc.edu/wp-content/uploads/2025/10/concert_band_2025.png
END:VEVENT
END:VCALENDAR