BEGIN:VCALENDAR
VERSION:2.0
PRODID:-//Mead Witter School of Music - ECPv6.15.18//NONSGML v1.0//EN
CALSCALE:GREGORIAN
METHOD:PUBLISH
X-WR-CALNAME:Mead Witter School of Music
X-ORIGINAL-URL:https://music.wisc.edu
X-WR-CALDESC:Events for Mead Witter School of Music
REFRESH-INTERVAL;VALUE=DURATION:PT1H
X-Robots-Tag:noindex
X-PUBLISHED-TTL:PT1H
BEGIN:VTIMEZONE
TZID:America/Chicago
BEGIN:DAYLIGHT
TZOFFSETFROM:-0600
TZOFFSETTO:-0500
TZNAME:CDT
DTSTART:20250309T080000
END:DAYLIGHT
BEGIN:STANDARD
TZOFFSETFROM:-0500
TZOFFSETTO:-0600
TZNAME:CST
DTSTART:20251102T070000
END:STANDARD
BEGIN:DAYLIGHT
TZOFFSETFROM:-0600
TZOFFSETTO:-0500
TZNAME:CDT
DTSTART:20260308T080000
END:DAYLIGHT
BEGIN:STANDARD
TZOFFSETFROM:-0500
TZOFFSETTO:-0600
TZNAME:CST
DTSTART:20261101T070000
END:STANDARD
BEGIN:DAYLIGHT
TZOFFSETFROM:-0600
TZOFFSETTO:-0500
TZNAME:CDT
DTSTART:20270314T080000
END:DAYLIGHT
BEGIN:STANDARD
TZOFFSETFROM:-0500
TZOFFSETTO:-0600
TZNAME:CST
DTSTART:20271107T070000
END:STANDARD
END:VTIMEZONE
BEGIN:VEVENT
DTSTART;TZID=America/Chicago:20260121T193000
DTEND;TZID=America/Chicago:20260121T193000
DTSTAMP:20260421T024406
CREATED:20260102T184331Z
LAST-MODIFIED:20260121T183304Z
UID:24502-1769023800-1769023800@music.wisc.edu
SUMMARY:The Bridge Project
DESCRIPTION:Free | No ticket required\nAlso streaming live \nThe Bridge Project\nBen Ferris\nThomas Weiland\nDan Van ZeeLand\nNoah Brooks\nHeejo Yang\nChantel Davis\nJun Lee\nBen Campbell \n…… \nProgram \n \n…… \nThe Bridge Project started in 2021 and brought together a School of Music jazz quartet and string quartet. The ensemble works with high school and junior high school students to share performances and show the “bridging” of improvised music with written music to demonstrate that there’s room for expansion in the curriculum.
URL:https://music.wisc.edu/event/the-bridge-project/
LOCATION:Collins Recital Hall\, Hamel Music Center\, 740 University Avenue\, Madison\, WI\, 53706\, United States
CATEGORIES:Student Ensemble Series
ATTACH;FMTTYPE=image/jpeg:https://music.wisc.edu/wp-content/uploads/2020/09/Hamel_Music_Center_Preview19_9418 (1).jpg
END:VEVENT
BEGIN:VEVENT
DTSTART;TZID=America/Chicago:20260131T193000
DTEND;TZID=America/Chicago:20260131T193000
DTSTAMP:20260421T024407
CREATED:20251015T195333Z
LAST-MODIFIED:20260128T195513Z
UID:23820-1769887800-1769887800@music.wisc.edu
SUMMARY:Panorama Concert - Student Ensemble Series
DESCRIPTION:Purchase tickets\n$20 general admission\nStudents free (ticket required) \nIn addition to featuring Symphony Orchestra\, Chorale\, Concert Choir\, Wind Ensemble\, and other School of Music students\, the 2026 Panorama Concert will celebrate the School of Music’s 130th anniversary as a department on campus. \n…… \nProgram
URL:https://music.wisc.edu/event/panorama-concert/
LOCATION:Mead Witter Foundation Concert Hall\, Hamel Music Center\, 740 University Avenue\, Madison\, WI\, 53706\, United States
CATEGORIES:Student Ensemble Series
ATTACH;FMTTYPE=image/png:https://music.wisc.edu/wp-content/uploads/2025/10/panorama_2025.png
END:VEVENT
END:VCALENDAR