BEGIN:VCALENDAR
VERSION:2.0
PRODID:-//Mead Witter School of Music - ECPv6.15.18//NONSGML v1.0//EN
CALSCALE:GREGORIAN
METHOD:PUBLISH
X-ORIGINAL-URL:https://music.wisc.edu
X-WR-CALDESC:Events for Mead Witter School of Music
REFRESH-INTERVAL;VALUE=DURATION:PT1H
X-Robots-Tag:noindex
X-PUBLISHED-TTL:PT1H
BEGIN:VTIMEZONE
TZID:America/Chicago
BEGIN:DAYLIGHT
TZOFFSETFROM:-0600
TZOFFSETTO:-0500
TZNAME:CDT
DTSTART:20240310T080000
END:DAYLIGHT
BEGIN:STANDARD
TZOFFSETFROM:-0500
TZOFFSETTO:-0600
TZNAME:CST
DTSTART:20241103T070000
END:STANDARD
BEGIN:DAYLIGHT
TZOFFSETFROM:-0600
TZOFFSETTO:-0500
TZNAME:CDT
DTSTART:20250309T080000
END:DAYLIGHT
BEGIN:STANDARD
TZOFFSETFROM:-0500
TZOFFSETTO:-0600
TZNAME:CST
DTSTART:20251102T070000
END:STANDARD
BEGIN:DAYLIGHT
TZOFFSETFROM:-0600
TZOFFSETTO:-0500
TZNAME:CDT
DTSTART:20260308T080000
END:DAYLIGHT
BEGIN:STANDARD
TZOFFSETFROM:-0500
TZOFFSETTO:-0600
TZNAME:CST
DTSTART:20261101T070000
END:STANDARD
END:VTIMEZONE
BEGIN:VEVENT
DTSTART;TZID=America/Chicago:20251104T193000
DTEND;TZID=America/Chicago:20251104T210000
DTSTAMP:20260421T092827
CREATED:20251002T185014Z
LAST-MODIFIED:20251022T213211Z
UID:23485-1762284600-1762290000@music.wisc.edu
SUMMARY:Wind Ensemble - Student Ensemble Series
DESCRIPTION:Purchase tickets\n$20 general admission\nStudents free (ticket required)\nAlso streaming live \nScott Teeple\, conductor \nWith special guests \nMariana Farah\, guest conductor\nDirector of Choral Activities\n \nand \nDaniel Grabois\, horn \n…… \nProgram
URL:https://music.wisc.edu/event/wind-ensemble/
LOCATION:Mead Witter Foundation Concert Hall\, Hamel Music Center\, 740 University Avenue\, Madison\, WI\, 53706\, United States
CATEGORIES:Student Ensemble Series
ATTACH;FMTTYPE=image/png:https://music.wisc.edu/wp-content/uploads/2025/10/wind_ensemble_2025.png
END:VEVENT
BEGIN:VEVENT
DTSTART;TZID=America/Chicago:20251116T140000
DTEND;TZID=America/Chicago:20251116T153000
DTSTAMP:20260421T092827
CREATED:20251002T201032Z
LAST-MODIFIED:20251114T161450Z
UID:23502-1763301600-1763307000@music.wisc.edu
SUMMARY:Low Brass Ensemble - Student Ensemble Series
DESCRIPTION:Free | No ticket required\nAlso streaming live \nTom Curry and Mark Hetzler\, directors \n…… \nProgram
URL:https://music.wisc.edu/event/low-brass/
LOCATION:Mead Witter Foundation Concert Hall\, Hamel Music Center\, 740 University Avenue\, Madison\, WI\, 53706\, United States
CATEGORIES:Student Ensemble Series
ATTACH;FMTTYPE=image/jpeg:https://music.wisc.edu/wp-content/uploads/2023/07/low_brass_ensemble-scaled.jpg
END:VEVENT
BEGIN:VEVENT
DTSTART;TZID=America/Chicago:20251120T193000
DTEND;TZID=America/Chicago:20251120T193000
DTSTAMP:20260421T092827
CREATED:20251002T201721Z
LAST-MODIFIED:20251114T164959Z
UID:23506-1763667000-1763667000@music.wisc.edu
SUMMARY:Concert Band - Student Ensemble Series
DESCRIPTION:Purchase tickets\n$20 general admission\nStudents free (ticket required)\nAlso streaming live \nCorey Pompey\, conductor\nBenjamin Grochowsky\, guest conductor \n…… \nProgram
URL:https://music.wisc.edu/event/concert-band-2/
LOCATION:Mead Witter Foundation Concert Hall\, Hamel Music Center\, 740 University Avenue\, Madison\, WI\, 53706\, United States
CATEGORIES:Student Ensemble Series
ATTACH;FMTTYPE=image/png:https://music.wisc.edu/wp-content/uploads/2025/10/concert_band_2025.png
END:VEVENT
BEGIN:VEVENT
DTSTART;TZID=America/Chicago:20251121T193000
DTEND;TZID=America/Chicago:20251121T193000
DTSTAMP:20260421T092827
CREATED:20251014T172340Z
LAST-MODIFIED:20251121T195317Z
UID:23744-1763753400-1763753400@music.wisc.edu
SUMMARY:All-University Philharmonia Orchestra - Student Ensemble Series
DESCRIPTION:Purchase tickets\n$10 general admission\nStudents free (ticket required) \nKatie Crim and Joseph Mahin\, conductors \n…… \nProgram
URL:https://music.wisc.edu/event/all-university-philharmonia/
LOCATION:Mead Witter Foundation Concert Hall\, Hamel Music Center\, 740 University Avenue\, Madison\, WI\, 53706\, United States
CATEGORIES:Student Ensemble Series
ATTACH;FMTTYPE=image/jpeg:https://music.wisc.edu/wp-content/uploads/2021/09/mead_witter_foundation_concert_hall-scaled.jpg
END:VEVENT
BEGIN:VEVENT
DTSTART;TZID=America/Chicago:20251121T193000
DTEND;TZID=America/Chicago:20251121T193000
DTSTAMP:20260421T092827
CREATED:20251015T154736Z
LAST-MODIFIED:20251113T225133Z
UID:23771-1763753400-1763753400@music.wisc.edu
SUMMARY:Rabin String Quartet - Student Ensemble Series
DESCRIPTION:Free | No ticket required\nAlso streaming live \nRabin String Quartet \nChantel Charis Davis\, violin\nBen Campbell\, violin\nHeejo Yang\, viola\nJun Lee\, cello \n…… \nProgram
URL:https://music.wisc.edu/event/rabin-string-quartet/
LOCATION:Collins Recital Hall\, Hamel Music Center\, 740 University Avenue\, Madison\, WI\, 53706\, United States
CATEGORIES:Student Ensemble Series
ATTACH;FMTTYPE=image/png:https://music.wisc.edu/wp-content/uploads/2025/09/rabin_quartet_2025.png
END:VEVENT
BEGIN:VEVENT
DTSTART;TZID=America/Chicago:20251123T140000
DTEND;TZID=America/Chicago:20251123T140000
DTSTAMP:20260421T092828
CREATED:20251015T155050Z
LAST-MODIFIED:20251118T213510Z
UID:23773-1763906400-1763906400@music.wisc.edu
SUMMARY:University Bands - Student Ensemble Series
DESCRIPTION:Purchase tickets\n$10 general admission\nStudents free (ticket required)\nAlso streaming live \nHerb Payung\, R. Louis Vadja\, Tyler Schuster\, conductors\nBen Grochowsky\, guest conductor\n \n…… \nProgram
URL:https://music.wisc.edu/event/university-bands-2/
LOCATION:Mead Witter Foundation Concert Hall\, Hamel Music Center\, 740 University Avenue\, Madison\, WI\, 53706\, United States
CATEGORIES:Student Ensemble Series
ATTACH;FMTTYPE=image/png:https://music.wisc.edu/wp-content/uploads/2024/05/university_bands.png
END:VEVENT
BEGIN:VEVENT
DTSTART;TZID=America/Chicago:20251123T170000
DTEND;TZID=America/Chicago:20251123T170000
DTSTAMP:20260421T092828
CREATED:20251015T155523Z
LAST-MODIFIED:20251118T213910Z
UID:23777-1763917200-1763917200@music.wisc.edu
SUMMARY:Graduate Percussion Group - Student Ensemble Series
DESCRIPTION:Free | No ticket required \nJaime Cárdenas\nDylan Chapman\nTanner Day\nAnna Desfor\nAdina Shaikh \n…… \nProgram 
URL:https://music.wisc.edu/event/graduate-percussion-group/
LOCATION:Collins Recital Hall\, Hamel Music Center\, 740 University Avenue\, Madison\, WI\, 53706\, United States
CATEGORIES:Student Ensemble Series
END:VEVENT
END:VCALENDAR