BEGIN:VCALENDAR
VERSION:2.0
PRODID:-//Mead Witter School of Music - ECPv6.15.18//NONSGML v1.0//EN
CALSCALE:GREGORIAN
METHOD:PUBLISH
X-WR-CALNAME:Mead Witter School of Music
X-ORIGINAL-URL:https://music.wisc.edu
X-WR-CALDESC:Events for Mead Witter School of Music
REFRESH-INTERVAL;VALUE=DURATION:PT1H
X-Robots-Tag:noindex
X-PUBLISHED-TTL:PT1H
BEGIN:VTIMEZONE
TZID:America/Chicago
BEGIN:DAYLIGHT
TZOFFSETFROM:-0600
TZOFFSETTO:-0500
TZNAME:CDT
DTSTART:20250309T080000
END:DAYLIGHT
BEGIN:STANDARD
TZOFFSETFROM:-0500
TZOFFSETTO:-0600
TZNAME:CST
DTSTART:20251102T070000
END:STANDARD
BEGIN:DAYLIGHT
TZOFFSETFROM:-0600
TZOFFSETTO:-0500
TZNAME:CDT
DTSTART:20260308T080000
END:DAYLIGHT
BEGIN:STANDARD
TZOFFSETFROM:-0500
TZOFFSETTO:-0600
TZNAME:CST
DTSTART:20261101T070000
END:STANDARD
BEGIN:DAYLIGHT
TZOFFSETFROM:-0600
TZOFFSETTO:-0500
TZNAME:CDT
DTSTART:20270314T080000
END:DAYLIGHT
BEGIN:STANDARD
TZOFFSETFROM:-0500
TZOFFSETTO:-0600
TZNAME:CST
DTSTART:20271107T070000
END:STANDARD
END:VTIMEZONE
BEGIN:VEVENT
DTSTART;TZID=America/Chicago:20260125T193000
DTEND;TZID=America/Chicago:20260125T193000
DTSTAMP:20260421T125327
CREATED:20251015T194925Z
LAST-MODIFIED:20260122T205409Z
UID:23818-1769369400-1769369400@music.wisc.edu
SUMMARY:Pro Arte Quartet - Faculty Ensemble Series
DESCRIPTION:Purchase tickets\n$20 general admission\nStudents free (ticket required)\nAlso streaming live \nMead Witter School of Music Faculty Ensemble Series \nDavid Perry\, violin\nSuzanne Beia\, violin\nSally Chisholm\, viola\nParry Karp\, violoncello \n…… \nProgram
URL:https://music.wisc.edu/event/pro-arte-quartet-2/
LOCATION:Mead Witter Foundation Concert Hall\, Hamel Music Center\, 740 University Avenue\, Madison\, WI\, 53706\, United States
CATEGORIES:Faculty Ensemble Series
ATTACH;FMTTYPE=image/png:https://music.wisc.edu/wp-content/uploads/2022/08/pro_arte_quartet_1920x1005.png
END:VEVENT
END:VCALENDAR