BEGIN:VCALENDAR
VERSION:2.0
PRODID:-//Mead Witter School of Music - ECPv6.15.18//NONSGML v1.0//EN
CALSCALE:GREGORIAN
METHOD:PUBLISH
X-ORIGINAL-URL:https://music.wisc.edu
X-WR-CALDESC:Events for Mead Witter School of Music
REFRESH-INTERVAL;VALUE=DURATION:PT1H
X-Robots-Tag:noindex
X-PUBLISHED-TTL:PT1H
BEGIN:VTIMEZONE
TZID:America/Chicago
BEGIN:DAYLIGHT
TZOFFSETFROM:-0600
TZOFFSETTO:-0500
TZNAME:CDT
DTSTART:20250309T080000
END:DAYLIGHT
BEGIN:STANDARD
TZOFFSETFROM:-0500
TZOFFSETTO:-0600
TZNAME:CST
DTSTART:20251102T070000
END:STANDARD
BEGIN:DAYLIGHT
TZOFFSETFROM:-0600
TZOFFSETTO:-0500
TZNAME:CDT
DTSTART:20260308T080000
END:DAYLIGHT
BEGIN:STANDARD
TZOFFSETFROM:-0500
TZOFFSETTO:-0600
TZNAME:CST
DTSTART:20261101T070000
END:STANDARD
BEGIN:DAYLIGHT
TZOFFSETFROM:-0600
TZOFFSETTO:-0500
TZNAME:CDT
DTSTART:20270314T080000
END:DAYLIGHT
BEGIN:STANDARD
TZOFFSETFROM:-0500
TZOFFSETTO:-0600
TZNAME:CST
DTSTART:20271107T070000
END:STANDARD
END:VTIMEZONE
BEGIN:VEVENT
DTSTART;TZID=America/Chicago:20260510T110000
DTEND;TZID=America/Chicago:20260510T110000
DTSTAMP:20260421T111401
CREATED:20260327T202702Z
LAST-MODIFIED:20260420T151743Z
UID:25344-1778410800-1778410800@music.wisc.edu
SUMMARY:Matthew Treviño - Faculty Artist Series
DESCRIPTION:Free | No ticket required \nMorphy Recital Hall \nMead Witter School of Music Faculty Artist Series \nMatthew Treviño\, bass\nScott Gendel\, piano \nPresent “The Modern Bass: New Music and New Perspectives” \nMatthew Treviño\, bass\, presents a recital of new music featuring a selection of newly commissioned works from his upcoming album The Farther Shore. The program debuts these pieces and discusses the role new music can play in redefining archetypes for the bass voice.
URL:https://music.wisc.edu/event/matthew-trevino/
LOCATION:Humanities Building\, 455 N. Park Street\, Madison\, WI\, 53706\, United States
CATEGORIES:Faculty Artist Series
ATTACH;FMTTYPE=image/png:https://music.wisc.edu/wp-content/uploads/2026/03/matthew_trevino.png
END:VEVENT
END:VCALENDAR