BEGIN:VCALENDAR
VERSION:2.0
PRODID:-//Mead Witter School of Music - ECPv6.15.18//NONSGML v1.0//EN
CALSCALE:GREGORIAN
METHOD:PUBLISH
X-WR-CALNAME:Mead Witter School of Music
X-ORIGINAL-URL:https://music.wisc.edu
X-WR-CALDESC:Events for Mead Witter School of Music
REFRESH-INTERVAL;VALUE=DURATION:PT1H
X-Robots-Tag:noindex
X-PUBLISHED-TTL:PT1H
BEGIN:VTIMEZONE
TZID:America/Chicago
BEGIN:DAYLIGHT
TZOFFSETFROM:-0600
TZOFFSETTO:-0500
TZNAME:CDT
DTSTART:20250309T080000
END:DAYLIGHT
BEGIN:STANDARD
TZOFFSETFROM:-0500
TZOFFSETTO:-0600
TZNAME:CST
DTSTART:20251102T070000
END:STANDARD
BEGIN:DAYLIGHT
TZOFFSETFROM:-0600
TZOFFSETTO:-0500
TZNAME:CDT
DTSTART:20260308T080000
END:DAYLIGHT
BEGIN:STANDARD
TZOFFSETFROM:-0500
TZOFFSETTO:-0600
TZNAME:CST
DTSTART:20261101T070000
END:STANDARD
BEGIN:DAYLIGHT
TZOFFSETFROM:-0600
TZOFFSETTO:-0500
TZNAME:CDT
DTSTART:20270314T080000
END:DAYLIGHT
BEGIN:STANDARD
TZOFFSETFROM:-0500
TZOFFSETTO:-0600
TZNAME:CST
DTSTART:20271107T070000
END:STANDARD
END:VTIMEZONE
BEGIN:VEVENT
DTSTART;TZID=America/Chicago:20260420T193000
DTEND;TZID=America/Chicago:20260420T193000
DTSTAMP:20260420T230704
CREATED:20251209T220809Z
LAST-MODIFIED:20260420T163923Z
UID:24423-1776713400-1776713400@music.wisc.edu
SUMMARY:Earth Signals: Wisconsin Weather
DESCRIPTION:Free | No ticket required\nAlso streaming live \nThe Department of Atmospheric and Oceanic Sciences and the Mead Witter School of Music present Earth Signals\, a collaboration focusing on the theme of Wisconsin weather and making use of different forms of weather and climate data to compose music. \nEarth Signals brings oceanographic and atmospheric science concepts to life through music and sound. Earth Signals is a science-music project from the UW-Madison Oceans and Climate Group led by Professor of Atmospheric and Oceanic Sciences Elizabeth Maroon and Professor of Music Johannes Wallmann. \nEarth Signals: Wisconsin Weather—the second in our series of science-inspired musical experiences—will feature a new work for Piano Quintet with Live Electronics by Christopher Cobley\, DMA student in Music Composition. In addition\, weather data from the new Wisconsin Environmental Mesonet (Wisconet) will be transformed into sound and presented by Molly McKellar\, a senior in Atmospheric and Oceanic Sciences. Alongside the performances\, attendees will learn about the science behind the weather and why new observational platforms like the Wisconet matter for Wisconsin. \n \n…… \nProgram 
URL:https://music.wisc.edu/event/earth-signals/
LOCATION:Collins Recital Hall\, Hamel Music Center\, 740 University Avenue\, Madison\, WI\, 53706\, United States
ATTACH;FMTTYPE=image/jpeg:https://music.wisc.edu/wp-content/uploads/2025/12/earth_signals.jpg
END:VEVENT
END:VCALENDAR